BEGIN:VCALENDAR
VERSION:2.0
PRODID:-//Siema Londyn - ECPv6.15.20//NONSGML v1.0//EN
CALSCALE:GREGORIAN
METHOD:PUBLISH
X-WR-CALNAME:Siema Londyn
X-ORIGINAL-URL:https://siemalondyn.pl
X-WR-CALDESC:Events for Siema Londyn
REFRESH-INTERVAL;VALUE=DURATION:PT1H
X-Robots-Tag:noindex
X-PUBLISHED-TTL:PT1H
BEGIN:VTIMEZONE
TZID:Europe/London
BEGIN:DAYLIGHT
TZOFFSETFROM:+0000
TZOFFSETTO:+0100
TZNAME:BST
DTSTART:20240331T010000
END:DAYLIGHT
BEGIN:STANDARD
TZOFFSETFROM:+0100
TZOFFSETTO:+0000
TZNAME:GMT
DTSTART:20241027T010000
END:STANDARD
BEGIN:DAYLIGHT
TZOFFSETFROM:+0000
TZOFFSETTO:+0100
TZNAME:BST
DTSTART:20250330T010000
END:DAYLIGHT
BEGIN:STANDARD
TZOFFSETFROM:+0100
TZOFFSETTO:+0000
TZNAME:GMT
DTSTART:20251026T010000
END:STANDARD
BEGIN:DAYLIGHT
TZOFFSETFROM:+0000
TZOFFSETTO:+0100
TZNAME:BST
DTSTART:20260329T010000
END:DAYLIGHT
BEGIN:STANDARD
TZOFFSETFROM:+0100
TZOFFSETTO:+0000
TZNAME:GMT
DTSTART:20261025T010000
END:STANDARD
END:VTIMEZONE
BEGIN:VEVENT
DTSTART;TZID=Europe/London:20251206T150000
DTEND;TZID=Europe/London:20251206T190000
DTSTAMP:20260420T012012
CREATED:20251116T145047Z
LAST-MODIFIED:20251116T145047Z
UID:1428-1765033200-1765047600@siemalondyn.pl
SUMMARY:Mikołajowe Spotkanie z Fotografią W Londynie
DESCRIPTION:To już ostatnie spotkanie fotograficzne w tym roku! Tym razem nocna sceneria Carnaby\, Regent street i Covent Garden! Świąteczna atmosfera i światełka będą nam oświecać drogę do miejsca docelowego czyli pubu The Lamb And Flag. \nAtmosfera na wszystkich spotkaniach była niesamowita niezależnie od pogody więc serdecznie zapraszam wszystkie nowe twarze! \nPoziom grupy od amatorów hobbystów do profesjonalistów\, żyjących z fotografii. Łączy nas wspólna pasja i Londyn \nJak zwykle nie zapomnijcie zabrać zapasowych baterii do aparatu czy powerbanka do telefonu. I sprawdźcie czy macie kartę pamięci! \nDo zobaczenia już 6 Grudnia! \nZapraszam też do naszej grupy na facebooku
URL:https://siemalondyn.pl/event/mikolajowe-spotkanie-z-fotografia-w-londynie/
LOCATION:Oxford Circus Station\, Oxford St\, London W1B 3AG\, London\, W1B 3AG
CATEGORIES:Photo Walk
ATTACH;FMTTYPE=image/jpeg:https://siemalondyn.pl/wp-content/uploads/2025/11/DSC2444-scaled.jpg
END:VEVENT
BEGIN:VEVENT
DTSTART;TZID=Europe/London:20250719T140000
DTEND;TZID=Europe/London:20250719T180000
DTSTAMP:20260420T012012
CREATED:20250614T141652Z
LAST-MODIFIED:20250617T064654Z
UID:1343-1752933600-1752948000@siemalondyn.pl
SUMMARY:Barbican & Conservatory - Spotkania Z Fotografią w Londynie
DESCRIPTION:Witaj na pierwszym oficjalnym spotkaniu fotograficznym w Londynie! \nPo ponad roku przerwy wracam do fotograficznych spacerów na których każdy jest mile widziany. \nDla kogo jest spotkanie? \nKażdy kto interesuje się fotografią i trochę Londynem. Niezależnie od Twojego poziomu zaawansowania i tego czym fotografujesz. Telefon\, lustrzanka\, bezlusterkowiec\, film. A może po prostu chcesz poznać ludzi którzy się fotografią interesują to spotkanie jest dla Ciebie! \nGdzie? \nSpotykamy się na stacji Barbican i idziemy na Barbican Estate robić fotki i napić się kawy. Jeżeli mi się uda to dla wszystkich\, którzy zarejestrują się przez stronę będę załatwiał grupowe wejście na konserwatorium. Dokładne miejsce i czas na dole w info\, można dodać sobie do kalendarza. \nPo co? \nOdkrywanie ciekawych fotograficznych spotów i poznawanie intersujących ludzi. Mimo\, że czasem może się zdarzyć\, że wrócisz ze spotkania bez dobrego zdjęcia to na pewno wrócisz z głową pełną pomysłów i inspiracji! \nJak się przygotować? \n\nUbierz się wygodnie i odpowiednio do pogody. Mieszkamy w Londynie więc wygodne buty i parasolka to standardowe wyposażenie każdego plecaka!\nNaładuj baterię do aparatu\, telefonu i sprawdź czy kart pamięci jest w środku i ma wolne miejsce (zdarza się najlepszym;).\nWeź ze sobą wodę i może coś na przegryzkę aczkolwiek spacer może skończyć się w pubie.\nPozytywne nastawienie i otwarty umysł. Nie spotykamy się oby oceniać i krytykować ale uczyć od siebie nawzajem i inspirować.\n\nZa ile? \nSpotkania są kompletnie darmowe chyba\, że będzie potrzeba opłacenia jakiejś wejściówki to będę informował wcześniej. \n  \n 
URL:https://siemalondyn.pl/event/barbican-conservatory-spotkania-z-fotografia-w-londynie/
LOCATION:Barbican Station\, Barbican Station Aldersgate Street\, London\, EC1A 4JA\, United Kingdom
CATEGORIES:Photo Walk
ATTACH;FMTTYPE=image/jpeg:https://siemalondyn.pl/wp-content/uploads/2022/12/Barbican-10.jpg
ORGANIZER;CN="Siema Londyn":MAILTO:kontakt@siemalondyn.pl
END:VEVENT
END:VCALENDAR