BEGIN:VCALENDAR
VERSION:2.0
PRODID:-//Siema Londyn - ECPv6.15.20//NONSGML v1.0//EN
CALSCALE:GREGORIAN
METHOD:PUBLISH
X-WR-CALNAME:Siema Londyn
X-ORIGINAL-URL:https://siemalondyn.pl
X-WR-CALDESC:Events for Siema Londyn
REFRESH-INTERVAL;VALUE=DURATION:PT1H
X-Robots-Tag:noindex
X-PUBLISHED-TTL:PT1H
BEGIN:VTIMEZONE
TZID:Europe/London
BEGIN:DAYLIGHT
TZOFFSETFROM:+0000
TZOFFSETTO:+0100
TZNAME:BST
DTSTART:20250330T010000
END:DAYLIGHT
BEGIN:STANDARD
TZOFFSETFROM:+0100
TZOFFSETTO:+0000
TZNAME:GMT
DTSTART:20251026T010000
END:STANDARD
BEGIN:DAYLIGHT
TZOFFSETFROM:+0000
TZOFFSETTO:+0100
TZNAME:BST
DTSTART:20260329T010000
END:DAYLIGHT
BEGIN:STANDARD
TZOFFSETFROM:+0100
TZOFFSETTO:+0000
TZNAME:GMT
DTSTART:20261025T010000
END:STANDARD
BEGIN:DAYLIGHT
TZOFFSETFROM:+0000
TZOFFSETTO:+0100
TZNAME:BST
DTSTART:20270328T010000
END:DAYLIGHT
BEGIN:STANDARD
TZOFFSETFROM:+0100
TZOFFSETTO:+0000
TZNAME:GMT
DTSTART:20271031T010000
END:STANDARD
END:VTIMEZONE
BEGIN:VEVENT
DTSTART;TZID=Europe/London:20260627T150000
DTEND;TZID=Europe/London:20260627T180000
DTSTAMP:20260420T032329
CREATED:20260419T140125Z
LAST-MODIFIED:20260419T140125Z
UID:1993-1782572400-1782583200@siemalondyn.pl
SUMMARY:Barbican - Spotkanie fotograficzne w Londynie. Aparaty\, miasto i ludzie.
DESCRIPTION:Start: Barbican Station \nTrasaBarbican → St Giles Cripplegate → Golden Lane Estate \n🍺 Koniec dniaThe Shakespeare \nBardzo londyński pub przy Barbican. \nZapraszam do naszej fejsbookowej grupy po więcej info. \nTo otwarte spotkanie dla osób\, które lubią fotografię uliczną i portret uliczny.Spotykamy się\, żeby wspólnie pospacerować po Londynie\, robić zdjęcia i poznawać miasto z trochę innej strony. \nSpotkania są bezpłatne i otwarte dla wszystkich — niezależnie od poziomu doświadczenia.To nie są warsztaty ani lekcja fotografii. Raczej luźna wymiana doświadczeń między fotografami\, którzy patrzą na świat w różny sposób. \nChcemy: \n\npoznać się nawzajem\ndobrze się bawić\nodkrywać miasto\nrobić zdjęcia i rozmawiać o fotografii\n\nKilka prostych rzeczy przed spotkaniem: \n\nsprawdź pogodę i ubierz się odpowiednio\nnaładuj baterie do aparatu\nzabierz kartę pamięci\nweź ze sobą dobry humor\n\nSpacer trwa zwykle około 2–2\,5 godziny\, a na koniec często zatrzymujemy się w pobliskim pubie\, żeby jeszcze chwilę pogadać i odpocząć po spacerze.
URL:https://siemalondyn.pl/event/barbican-spotkanie-fotograficzne/
LOCATION:Barbican Station\, Barbican Station Aldersgate Street\, London\, EC1A 4JA\, United Kingdom
CATEGORIES:Foto spacer,Photo Walk,Spotkanie Fotograficzne
ATTACH;FMTTYPE=image/jpeg:https://siemalondyn.pl/wp-content/uploads/2023/01/DSC9117.jpg
ORGANIZER;CN="Siema Londyn":MAILTO:kontakt@siemalondyn.pl
END:VEVENT
END:VCALENDAR