BEGIN:VCALENDAR
VERSION:2.0
PRODID:-//Siema Londyn - ECPv6.15.20//NONSGML v1.0//EN
CALSCALE:GREGORIAN
METHOD:PUBLISH
X-WR-CALNAME:Siema Londyn
X-ORIGINAL-URL:https://siemalondyn.pl
X-WR-CALDESC:Events for Siema Londyn
REFRESH-INTERVAL;VALUE=DURATION:PT1H
X-Robots-Tag:noindex
X-PUBLISHED-TTL:PT1H
BEGIN:VTIMEZONE
TZID:Europe/London
BEGIN:DAYLIGHT
TZOFFSETFROM:+0000
TZOFFSETTO:+0100
TZNAME:BST
DTSTART:20250330T010000
END:DAYLIGHT
BEGIN:STANDARD
TZOFFSETFROM:+0100
TZOFFSETTO:+0000
TZNAME:GMT
DTSTART:20251026T010000
END:STANDARD
BEGIN:DAYLIGHT
TZOFFSETFROM:+0000
TZOFFSETTO:+0100
TZNAME:BST
DTSTART:20260329T010000
END:DAYLIGHT
BEGIN:STANDARD
TZOFFSETFROM:+0100
TZOFFSETTO:+0000
TZNAME:GMT
DTSTART:20261025T010000
END:STANDARD
BEGIN:DAYLIGHT
TZOFFSETFROM:+0000
TZOFFSETTO:+0100
TZNAME:BST
DTSTART:20270328T010000
END:DAYLIGHT
BEGIN:STANDARD
TZOFFSETFROM:+0100
TZOFFSETTO:+0000
TZNAME:GMT
DTSTART:20271031T010000
END:STANDARD
END:VTIMEZONE
BEGIN:VEVENT
DTSTART;TZID=Europe/London:20260718T130000
DTEND;TZID=Europe/London:20260718T170000
DTSTAMP:20260420T045031
CREATED:20260419T142344Z
LAST-MODIFIED:20260419T142345Z
UID:1995-1784379600-1784394000@siemalondyn.pl
SUMMARY:Piknik Fotograficzny w Londynie - Luźne spotkanie ludzi z pasją!
DESCRIPTION:📍 St. James Park \nSpotykamy się na Westminster Station \nJedzenie na trawie.Bez planu\, bez presji. \nJeśli ktoś będzie chciał jeszcze gdzieś usiąść: \n🍺The Old Star albo Adam&Eve do wyboru \nTym razem robimy małą przerwę od chodzenia z aparatami i spotykamy się na pikniku w parku. \n(oczywiście aparaty zawsze mile widziane ale nie obowiązkowe) \nKażdy przynosi: \n\ncoś do jedzenia\ncoś do picia (alkohol też mile widziany\, jeśli ktoś ma ochotę)\nkocyk\n\nTo po prostu luźne spotkanie — rozmowy o fotografii\, planach\, sprzęcie i wszystkim co przyjdzie do głowy. \nJeśli ktoś będzie miał aparat ze sobą — oczywiście nic nie stoi na przeszkodzie\, żeby zrobić kilka zdjęć. \nMożna też zabrać: \n\ngry plenerowe\nfrisbee\nkarty\ncokolwiek co sprawi\, że będzie nam się dobrze siedziało na trawie.\n\nJeśli pogoda nie dopisze\, przeniesiemy się tego dnia do jakiegoś pubu. \nZapraszam do naszej fejsbookowej grupy po więcej info.
URL:https://siemalondyn.pl/event/piknik-fotograficzny-w-londynie/
LOCATION:Westminster Station\, Westminster Pier\, London SW1A 2JH\, sw1a 2jh
CATEGORIES:Spotkanie Fotograficzne
ATTACH;FMTTYPE=image/jpeg:https://siemalondyn.pl/wp-content/uploads/2026/04/Siema-Londyn-2026_-Fotograficzna-podroz-po-Londynie.jpg
END:VEVENT
END:VCALENDAR